BEGIN:VCALENDAR
VERSION:2.0
PRODID:-//Planeta Worldschool - ECPv6.15.16//NONSGML v1.0//EN
CALSCALE:GREGORIAN
METHOD:PUBLISH
X-WR-CALNAME:Planeta Worldschool
X-ORIGINAL-URL:https://planetaworldschool.com
X-WR-CALDESC:Eventos para Planeta Worldschool
REFRESH-INTERVAL;VALUE=DURATION:PT1H
X-Robots-Tag:noindex
X-PUBLISHED-TTL:PT1H
BEGIN:VTIMEZONE
TZID:UTC
BEGIN:STANDARD
TZOFFSETFROM:+0000
TZOFFSETTO:+0000
TZNAME:UTC
DTSTART:20230101T000000
END:STANDARD
END:VTIMEZONE
BEGIN:VEVENT
DTSTART;VALUE=DATE:20240527
DTEND;VALUE=DATE:20240608
DTSTAMP:20260420T210546
CREATED:20240115T064310Z
LAST-MODIFIED:20240115T064310Z
UID:6645-1716768000-1717804799@planetaworldschool.com
SUMMARY:18+ Changemaker Experience - Dominican Republic
DESCRIPTION:Spend 5 weeks in the Caribbean becoming a Changemaker. Develop skills\, make memories and build relationships for life. \nTime & Location\n\n\n27 May 2024\, 09:00 GMT-4 – 07 Jun 2024\, 16:00 GMT-4 \nCabrera\, Carretera Rio San Juan Nagua\, Cabrera 33000\, Dominican Republic \n\n\n\n\nAbout the event\n\n\nAn incredible\, immersive experience in the Caribbean island of Dominican Republic. This incredibly beautiful island is an amazing place to learn how to be a Changemaker. The impact of global issues such as climate change\, plastic pollution\, lack of quality education are felt keenly here. Dominicans are super friendly and keen to be changemakers too. You will work with local social impact projects to design local solutions to global issues that will have a lasting positive impact. You’ll experience first hand what it feels like to be the change the world needs. And most likely improve your Spanish\, have an epic adventure and make friends for life. The basic Changemaker experience is 2 weeks long\, but you can stay for 5 weeks (or longer) and really do something impactful in the community if you wish to.
URL:https://planetaworldschool.com/event/18-changemaker-experience-dominican-republic/
LOCATION:Cabrera\, República Dominicana
CATEGORIES:República Dominicana,Suramérica
ATTACH;FMTTYPE=image/webp:https://planetaworldschool.com/wp-content/uploads/2024/01/Republica_dominicana_18_400x383.webp
ORGANIZER;CN="The Hive":MAILTO:kate@thehive.school
END:VEVENT
END:VCALENDAR