BEGIN:VCALENDAR
VERSION:2.0
PRODID:-//Planeta Worldschool - ECPv6.15.16//NONSGML v1.0//EN
CALSCALE:GREGORIAN
METHOD:PUBLISH
X-ORIGINAL-URL:https://planetaworldschool.com
X-WR-CALDESC:Eventos para Planeta Worldschool
REFRESH-INTERVAL;VALUE=DURATION:PT1H
X-Robots-Tag:noindex
X-PUBLISHED-TTL:PT1H
BEGIN:VTIMEZONE
TZID:UTC
BEGIN:STANDARD
TZOFFSETFROM:+0000
TZOFFSETTO:+0000
TZNAME:UTC
DTSTART:20220101T000000
END:STANDARD
END:VTIMEZONE
BEGIN:VEVENT
DTSTART;VALUE=DATE:20230507
DTEND;VALUE=DATE:20230515
DTSTAMP:20260421T024406
CREATED:20230114T091039Z
LAST-MODIFIED:20230114T091039Z
UID:3867-1683417600-1684108799@planetaworldschool.com
SUMMARY:Siem Reap Cambodia Worldschoolers FREE Pop-Up
DESCRIPTION:Worldschoolers bucket list hosts travelling hubs. What is a travelling hub? It means our hubs run for 4 weeks and change location every month. This means every month you get a new experience in a new country. Our hubs are planned in a 4-month semester block. You can join for 1 month or the full semester and get an additional 15% off.\nThis Pop-Up will be the visa run between our Hanoi and Da Nang 1 month Hubs.\nJoin us as our travelling worldschooling hub sets up for a week in Siem Reap.\nSiem Reap offers something for just about every traveller: historical temple ruins\, rich and fascinating history\, delicious street food\, electric nightlife\, quirky restaurants and bars\, beautiful boutique hotels and memorable cultural experiences.\nA stone’s throw away from the magnificent region of Angkor\, the city is best known as being the home of the largest temple complex in the world.\nThe Angkor complex will be one of the main attractions in Siem reap But there are many more things to see and do.\n\n\n\nJoin the official facebook group for more information.\n\n\nhttps://www.facebook.com/groups/siemreapcambodiaworldschoolershub/
URL:https://planetaworldschool.com/event/siem-reap-cambodia-worldschoolers-free-pop-up/
LOCATION:Krong Siem Reap\, Krong Siem Reap\, Siem Reap Province\, Cambodia\, Camboya
CATEGORIES:Camboya
ATTACH;FMTTYPE=image/png:https://planetaworldschool.com/wp-content/uploads/2023/01/camboya.png
END:VEVENT
END:VCALENDAR